



BEGIN:VCALENDAR
VERSION:2.0
PRODID:-//wp-events-plugin.com//7.2.3.1//EN
BEGIN:VEVENT
UID:7018@labo-emc.org
DTSTART:20251001T150000Z
DTEND:20251001T170000Z
DTSTAMP:20250926T130548Z
URL:https://labo-emc.org/reservation/events/manip-m2-ihm/
SUMMARY:Manip M2 - IHM
DESCRIPTION:
CATEGORIES:Salle C17G - Simulation Conduite
END:VEVENT
END:VCALENDAR