



BEGIN:VCALENDAR
VERSION:2.0
PRODID:-//wp-events-plugin.com//7.2.3.1//EN
BEGIN:VEVENT
UID:7054@labo-emc.org
DTSTART:20251015T160000Z
DTEND:20251015T180000Z
DTSTAMP:20251006T123243Z
URL:https://labo-emc.org/reservation/events/manip-m2-ihm-camille-carliez/
SUMMARY:Manip M2 IHM - Camille CARLIEZ
DESCRIPTION:
CATEGORIES:Salle C17G - Simulation Conduite
END:VEVENT
END:VCALENDAR