



BEGIN:VCALENDAR
VERSION:2.0
PRODID:-//wp-events-plugin.com//7.2.3.1//EN
BEGIN:VEVENT
UID:7095@labo-emc.org
DTSTART:20251022T163000Z
DTEND:20251022T180000Z
DTSTAMP:20251018T125831Z
URL:https://labo-emc.org/reservation/events/manip-m2-ihm-camille-carliez-n
 avarro-reynaud/
SUMMARY:Manip M2 IHM - Camille CARLIEZ (Navarro Reynaud)
DESCRIPTION:
CATEGORIES:Salle C17G - Simulation Conduite
END:VEVENT
END:VCALENDAR