



BEGIN:VCALENDAR
VERSION:2.0
PRODID:-//wp-events-plugin.com//7.2.3.1//EN
BEGIN:VEVENT
UID:7075@labo-emc.org
DTSTART:20251016T113000Z
DTEND:20251016T160000Z
DTSTAMP:20251011T210620Z
URL:https://labo-emc.org/reservation/events/manip-m2-ihm-7/
SUMMARY:Manip M2 IHM
DESCRIPTION:
CATEGORIES:Salle C17G - Simulation Conduite
END:VEVENT
END:VCALENDAR