



BEGIN:VCALENDAR
VERSION:2.0
PRODID:-//wp-events-plugin.com//7.2.3.1//EN
BEGIN:VEVENT
UID:7028@labo-emc.org
DTSTART:20251006T140000Z
DTEND:20251006T170000Z
DTSTAMP:20250930T181220Z
URL:https://labo-emc.org/reservation/events/manip-m2-ihm-2/
SUMMARY:Manip M2 IHM
DESCRIPTION:
CATEGORIES:Salle C17G - Simulation Conduite
END:VEVENT
END:VCALENDAR