



BEGIN:VCALENDAR
VERSION:2.0
PRODID:-//wp-events-plugin.com//7.2.3.1//EN
BEGIN:VEVENT
UID:7251@labo-emc.org
DTSTART:20251126T130000Z
DTEND:20251126T180000Z
DTSTAMP:20251125T181610Z
URL:https://labo-emc.org/reservation/events/manip-m2-ihm-15/
SUMMARY:Manip M2 IHM
DESCRIPTION:
CATEGORIES:Salle C17G - Simulation Conduite
END:VEVENT
END:VCALENDAR