



BEGIN:VCALENDAR
VERSION:2.0
PRODID:-//wp-events-plugin.com//7.2.3.1//EN
BEGIN:VEVENT
UID:7205@labo-emc.org
DTSTART:20251124T160000Z
DTEND:20251124T180000Z
DTSTAMP:20251117T091142Z
URL:https://labo-emc.org/reservation/events/manip-m2-ihm-12/
SUMMARY:Manip M2 IHM
DESCRIPTION:
CATEGORIES:Salle C17G - Simulation Conduite
END:VEVENT
END:VCALENDAR