



BEGIN:VCALENDAR
VERSION:2.0
PRODID:-//wp-events-plugin.com//7.2.3.1//EN
BEGIN:VEVENT
UID:7730@labo-emc.org
DTSTART:20260224T160000Z
DTEND:20260224T180000Z
DTSTAMP:20260224T083847Z
URL:https://labo-emc.org/reservation/events/maintenance-arnaud-fournel-47/
SUMMARY:Maintenance - Arnaud Fournel
DESCRIPTION:
CATEGORIES:Salle C17E - fNIRS
END:VEVENT
END:VCALENDAR