



BEGIN:VCALENDAR
VERSION:2.0
PRODID:-//wp-events-plugin.com//7.2.3.1//EN
BEGIN:VEVENT
UID:5602@labo-emc.org
DTSTART:20240502T110000Z
DTEND:20240502T123000Z
DTSTAMP:20240430T084413Z
URL:https://labo-emc.org/reservation/events/maintenance-arnaud-fournel-19/
SUMMARY:Maintenance - Arnaud Fournel
DESCRIPTION:
CATEGORIES:Salle C17F - Passation collective (6 postes)
END:VEVENT
END:VCALENDAR