



BEGIN:VCALENDAR
VERSION:2.0
PRODID:-//wp-events-plugin.com//7.2.3.1//EN
BEGIN:VEVENT
UID:7080@labo-emc.org
DTSTART:20251020T133000Z
DTEND:20251020T153000Z
DTSTAMP:20251014T095907Z
URL:https://labo-emc.org/reservation/events/m2-ihm-chen-manip/
SUMMARY:M2 IHM Chen Manip
DESCRIPTION:
CATEGORIES:Salle C17G - Simulation Conduite
END:VEVENT
END:VCALENDAR