



BEGIN:VCALENDAR
VERSION:2.0
PRODID:-//wp-events-plugin.com//7.2.3.1//EN
BEGIN:VEVENT
UID:7044@labo-emc.org
DTSTART:20251010T160000Z
DTEND:20251010T180000Z
DTSTAMP:20251005T114953Z
URL:https://labo-emc.org/reservation/events/m2-ihm-3/
SUMMARY:M2-IHM
DESCRIPTION:
CATEGORIES:Salle C17G - Simulation Conduite
END:VEVENT
END:VCALENDAR