



BEGIN:VCALENDAR
VERSION:2.0
PRODID:-//wp-events-plugin.com//7.2.3.1//EN
BEGIN:VEVENT
UID:6889@labo-emc.org
DTSTART:20250519T080000Z
DTEND:20250519T180000Z
DTSTAMP:20250423T190302Z
URL:https://labo-emc.org/reservation/events/journee-docouverte-5/
SUMMARY:Journée Doc'Ouverte
DESCRIPTION:
CATEGORIES:Salle C17G - Simulation Conduite
END:VEVENT
END:VCALENDAR