



BEGIN:VCALENDAR
VERSION:2.0
PRODID:-//wp-events-plugin.com//7.2.3.1//EN
BEGIN:VEVENT
UID:7621@labo-emc.org
DTSTART:20260213T124500Z
DTEND:20260213T150000Z
DTSTAMP:20260212T061135Z
URL:https://labo-emc.org/reservation/events/hovhannisyan-duran/
SUMMARY:HOVHANNISYAN - Duran
DESCRIPTION:Expérience négociation de crise
CATEGORIES:Salle C17N - EyeLink
END:VEVENT
END:VCALENDAR