



BEGIN:VCALENDAR
VERSION:2.0
PRODID:-//wp-events-plugin.com//7.2.3.1//EN
BEGIN:VEVENT
UID:5804@labo-emc.org
DTSTART:20241210T133000Z
DTEND:20241210T163000Z
DTSTAMP:20241202T130128Z
URL:https://labo-emc.org/reservation/events/hanna-teodor/
SUMMARY:Hanna-Teodor
DESCRIPTION:
CATEGORIES:Salle C17A/B - EEG/Physio
END:VEVENT
END:VCALENDAR