



BEGIN:VCALENDAR
VERSION:2.0
PRODID:-//wp-events-plugin.com//7.2.3.1//EN
BEGIN:VEVENT
UID:5792@labo-emc.org
DTSTART:20241203T140000Z
DTEND:20241203T163000Z
DTSTAMP:20241129T091609Z
URL:https://labo-emc.org/reservation/events/hanna-mondher-2/
SUMMARY:Hanna-Mondher
DESCRIPTION:
CATEGORIES:Salle C17A/B - EEG/Physio
END:VEVENT
END:VCALENDAR