



BEGIN:VCALENDAR
VERSION:2.0
PRODID:-//wp-events-plugin.com//7.2.3.1//EN
BEGIN:VEVENT
UID:5807@labo-emc.org
DTSTART:20241213T133000Z
DTEND:20241213T163000Z
DTSTAMP:20241202T145000Z
URL:https://labo-emc.org/reservation/events/hanna-mohamed/
SUMMARY:Hanna-Mohamed
DESCRIPTION:
CATEGORIES:Salle C17A/B - EEG/Physio
END:VEVENT
END:VCALENDAR