



BEGIN:VCALENDAR
VERSION:2.0
PRODID:-//wp-events-plugin.com//7.2.3.1//EN
BEGIN:VEVENT
UID:5854@labo-emc.org
DTSTART:20241217T133000Z
DTEND:20241217T163000Z
DTSTAMP:20241212T151519Z
URL:https://labo-emc.org/reservation/events/hanna-eloise/
SUMMARY:Hanna-Eloise
DESCRIPTION:
CATEGORIES:Salle C17A/B - EEG/Physio
END:VEVENT
END:VCALENDAR