



BEGIN:VCALENDAR
VERSION:2.0
PRODID:-//wp-events-plugin.com//7.2.3.1//EN
BEGIN:VEVENT
UID:5717@labo-emc.org
DTSTART:20241114T140000Z
DTEND:20241114T140000Z
DTSTAMP:20241112T092959Z
URL:https://labo-emc.org/reservation/events/hanna-5/
SUMMARY:Hanna - Alexis
DESCRIPTION:
CATEGORIES:Salle C17A/B - EEG/Physio
END:VEVENT
END:VCALENDAR