



BEGIN:VCALENDAR
VERSION:2.0
PRODID:-//wp-events-plugin.com//7.2.3.1//EN
BEGIN:VEVENT
UID:7844@labo-emc.org
DTSTART:20260311T133000Z
DTEND:20260311T171500Z
DTSTAMP:20260302T201634Z
URL:https://labo-emc.org/reservation/events/gazel-michael-6/
SUMMARY:GAZEL MICHAEL
DESCRIPTION:
CATEGORIES:Salle C17i
END:VEVENT
END:VCALENDAR