



BEGIN:VCALENDAR
VERSION:2.0
PRODID:-//wp-events-plugin.com//7.2.3.1//EN
BEGIN:VEVENT
UID:7809@labo-emc.org
DTSTART:20260304T133000Z
DTEND:20260304T180000Z
DTSTAMP:20260301T182750Z
URL:https://labo-emc.org/reservation/events/gazel-michael-4/
SUMMARY:GAZEL MICHAEL
DESCRIPTION:
CATEGORIES:Salle C17i
END:VEVENT
END:VCALENDAR