



BEGIN:VCALENDAR
VERSION:2.0
PRODID:-//wp-events-plugin.com//7.2.3.1//EN
BEGIN:VEVENT
UID:7756@labo-emc.org
DTSTART:20260225T100000Z
DTEND:20260225T140000Z
DTSTAMP:20260226T092945Z
URL:https://labo-emc.org/reservation/events/gazel-michael-3/
SUMMARY:GAZEL MICHAEL
DESCRIPTION:
CATEGORIES:Salle C17i
END:VEVENT
END:VCALENDAR