



BEGIN:VCALENDAR
VERSION:2.0
PRODID:-//wp-events-plugin.com//7.2.3.1//EN
BEGIN:VEVENT
UID:8215@labo-emc.org
DTSTART:20260421T120000Z
DTEND:20260421T121500Z
DTSTAMP:20260420T144810Z
URL:https://labo-emc.org/reservation/events/gazel-michael-11/
SUMMARY:GAZEL MICHAEL
DESCRIPTION:
CATEGORIES:Salle C17i
END:VEVENT
END:VCALENDAR