



BEGIN:VCALENDAR
VERSION:2.0
PRODID:-//wp-events-plugin.com//7.2.3.1//EN
BEGIN:VEVENT
UID:6749@labo-emc.org
DTSTART:20250411T120000Z
DTEND:20250411T180000Z
DTSTAMP:20250403T085454Z
URL:https://labo-emc.org/reservation/events/garnier_navarro-6/
SUMMARY:Garnier_Navarro
DESCRIPTION:
CATEGORIES:Salle C17O
END:VEVENT
END:VCALENDAR