



BEGIN:VCALENDAR
VERSION:2.0
PRODID:-//wp-events-plugin.com//7.2.3.1//EN
BEGIN:VEVENT
UID:7109@labo-emc.org
DTSTART:20251022T140000Z
DTEND:20251022T150000Z
DTSTAMP:20251022T091423Z
URL:https://labo-emc.org/reservation/events/garnier_navarro-49/
SUMMARY:Garnier_Navarro
DESCRIPTION:
CATEGORIES:Salle C17O
END:VEVENT
END:VCALENDAR