



BEGIN:VCALENDAR
VERSION:2.0
PRODID:-//wp-events-plugin.com//7.2.3.1//EN
BEGIN:VEVENT
UID:6631@labo-emc.org
DTSTART:20250407T120000Z
DTEND:20250407T180000Z
DTSTAMP:20250326T142816Z
URL:https://labo-emc.org/reservation/events/garnier_navarro-4/
SUMMARY:Garnier_NAVARRO
DESCRIPTION:
CATEGORIES:Salle C17O
END:VEVENT
END:VCALENDAR