



BEGIN:VCALENDAR
VERSION:2.0
PRODID:-//wp-events-plugin.com//7.2.3.1//EN
BEGIN:VEVENT
UID:6854@labo-emc.org
DTSTART:20250425T110000Z
DTEND:20250425T170000Z
DTSTAMP:20250421T150253Z
URL:https://labo-emc.org/reservation/events/garnier_navarro-13/
SUMMARY:Garnier_Navarro
DESCRIPTION:
CATEGORIES:Salle C17O
END:VEVENT
END:VCALENDAR