



BEGIN:VCALENDAR
VERSION:2.0
PRODID:-//wp-events-plugin.com//7.2.3.1//EN
BEGIN:VEVENT
UID:6913@labo-emc.org
DTSTART:20250519T130000Z
DTEND:20250519T180000Z
DTSTAMP:20250512T122024Z
URL:https://labo-emc.org/reservation/events/garnier-navarro/
SUMMARY:Garnier - Navarro
DESCRIPTION:
CATEGORIES:Salle C17O
END:VEVENT
END:VCALENDAR