



BEGIN:VCALENDAR
VERSION:2.0
PRODID:-//wp-events-plugin.com//7.2.3.1//EN
BEGIN:VEVENT
UID:7972@labo-emc.org
DTSTART:20260319T130000Z
DTEND:20260319T180000Z
DTSTAMP:20260310T162715Z
URL:https://labo-emc.org/reservation/events/gaget-michael-5/
SUMMARY:GAGET MICHAEL
DESCRIPTION:
CATEGORIES:Salle C17i
END:VEVENT
END:VCALENDAR