



BEGIN:VCALENDAR
VERSION:2.0
PRODID:-//wp-events-plugin.com//7.2.3.1//EN
BEGIN:VEVENT
UID:8123@labo-emc.org
DTSTART:20260408T083000Z
DTEND:20260408T150000Z
DTSTAMP:20260408T130903Z
URL:https://labo-emc.org/reservation/events/fournier-caudrelier-9/
SUMMARY:FOURNIER CAUDRELIER
DESCRIPTION:
CATEGORIES:Salle C17N - EyeLink
END:VEVENT
END:VCALENDAR