



BEGIN:VCALENDAR
VERSION:2.0
PRODID:-//wp-events-plugin.com//7.2.3.1//EN
BEGIN:VEVENT
UID:7941@labo-emc.org
DTSTART:20260330T140000Z
DTEND:20260330T163000Z
DTSTAMP:20260330T120003Z
URL:https://labo-emc.org/reservation/events/fournier-caudrelier-23/
SUMMARY:Fournier - Caudrelier
DESCRIPTION:
CATEGORIES:Salle C17N - EyeLink
END:VEVENT
END:VCALENDAR