



BEGIN:VCALENDAR
VERSION:2.0
PRODID:-//wp-events-plugin.com//7.2.3.1//EN
BEGIN:VEVENT
UID:7937@labo-emc.org
DTSTART:20260323T140000Z
DTEND:20260323T170000Z
DTSTAMP:20260306T205625Z
URL:https://labo-emc.org/reservation/events/fournier-caudrelier-19/
SUMMARY:Fournier - Caudrelier
DESCRIPTION:
CATEGORIES:Salle C17N - EyeLink
END:VEVENT
END:VCALENDAR