



BEGIN:VCALENDAR
VERSION:2.0
PRODID:-//wp-events-plugin.com//7.2.3.1//EN
BEGIN:VEVENT
UID:8166@labo-emc.org
DTSTART:20260415T093000Z
DTEND:20260415T180000Z
DTSTAMP:20260415T055327Z
URL:https://labo-emc.org/reservation/events/fournier-caudrelier-14/
SUMMARY:FOURNIER CAUDRELIER
DESCRIPTION:
CATEGORIES:Salle C17M
END:VEVENT
END:VCALENDAR