



BEGIN:VCALENDAR
VERSION:2.0
PRODID:-//wp-events-plugin.com//7.2.3.1//EN
BEGIN:VEVENT
UID:7313@labo-emc.org
DTSTART:20260115T100000Z
DTEND:20260115T123000Z
DTSTAMP:20260115T101604Z
URL:https://labo-emc.org/reservation/events/fnirs-simulateur-shenglan/
SUMMARY:fnirs-Simulateur Shenglan
DESCRIPTION:
CATEGORIES:Salle C17G - Simulation Conduite
END:VEVENT
END:VCALENDAR