



BEGIN:VCALENDAR
VERSION:2.0
PRODID:-//wp-events-plugin.com//7.2.3.1//EN
BEGIN:VEVENT
UID:7487@labo-emc.org
DTSTART:20260203T103000Z
DTEND:20260203T150000Z
DTSTAMP:20260202T131821Z
URL:https://labo-emc.org/reservation/events/fnirs-simulateur-shenglan-7/
SUMMARY:fnirs-Simulateur Shenglan
DESCRIPTION:
CATEGORIES:Salle C17G - Simulation Conduite
END:VEVENT
END:VCALENDAR