



BEGIN:VCALENDAR
VERSION:2.0
PRODID:-//wp-events-plugin.com//7.2.3.1//EN
BEGIN:VEVENT
UID:7548@labo-emc.org
DTSTART:20260211T110000Z
DTEND:20260211T140000Z
DTSTAMP:20260206T111254Z
URL:https://labo-emc.org/reservation/events/fay-le-clezio-2/
SUMMARY:FAY - LE CLÉZIO
DESCRIPTION:
CATEGORIES:Salle C17J
END:VEVENT
END:VCALENDAR