



BEGIN:VCALENDAR
VERSION:2.0
PRODID:-//wp-events-plugin.com//7.2.3.1//EN
BEGIN:VEVENT
UID:7360@labo-emc.org
DTSTART:20260202T130000Z
DTEND:20260202T170000Z
DTSTAMP:20260123T160822Z
URL:https://labo-emc.org/reservation/events/experience-cnv-2/
SUMMARY:Expérience CNV
DESCRIPTION:Passations pour l'expérience sur la CNV encadré par Tiphaine 
 Caudrelier.
CATEGORIES:Salle C17N - EyeLink
END:VEVENT
END:VCALENDAR