



BEGIN:VCALENDAR
VERSION:2.0
PRODID:-//wp-events-plugin.com//7.2.3.1//EN
BEGIN:VEVENT
UID:7246@labo-emc.org
DTSTART:20251124T173000Z
DTEND:20251124T180000Z
DTSTAMP:20251124T144719Z
URL:https://labo-emc.org/reservation/events/entrainement-tiphaine/
SUMMARY:ENTRAÎNEMENT TIPHAINE
DESCRIPTION:
CATEGORIES:Salle C17N - EyeLink
END:VEVENT
END:VCALENDAR