



BEGIN:VCALENDAR
VERSION:2.0
PRODID:-//wp-events-plugin.com//7.2.3.1//EN
BEGIN:VEVENT
UID:7918@labo-emc.org
DTSTART:20260312T094500Z
DTEND:20260312T134500Z
DTSTAMP:20260306T174831Z
URL:https://labo-emc.org/reservation/events/elfakir_michael-7/
SUMMARY:ELFAKIR_MICHAEL
DESCRIPTION:
CATEGORIES:Salle C17K
END:VEVENT
END:VCALENDAR