



BEGIN:VCALENDAR
VERSION:2.0
PRODID:-//wp-events-plugin.com//7.2.3.1//EN
BEGIN:VEVENT
UID:7917@labo-emc.org
DTSTART:20260311T094500Z
DTEND:20260311T134500Z
DTSTAMP:20260306T174616Z
URL:https://labo-emc.org/reservation/events/elfakir_michael-6/
SUMMARY:ELFAKIR_MICHAEL
DESCRIPTION:
CATEGORIES:Salle C17O
END:VEVENT
END:VCALENDAR