



BEGIN:VCALENDAR
VERSION:2.0
PRODID:-//wp-events-plugin.com//7.2.3.1//EN
BEGIN:VEVENT
UID:7916@labo-emc.org
DTSTART:20260309T101500Z
DTEND:20260309T131500Z
DTSTAMP:20260306T174430Z
URL:https://labo-emc.org/reservation/events/elfakir_michael-5/
SUMMARY:ELFAKIR_MICHAEL
DESCRIPTION:
CATEGORIES:Salle C17K
END:VEVENT
END:VCALENDAR