



BEGIN:VCALENDAR
VERSION:2.0
PRODID:-//wp-events-plugin.com//7.2.3.1//EN
BEGIN:VEVENT
UID:7807@labo-emc.org
DTSTART:20260302T101500Z
DTEND:20260302T131500Z
DTSTAMP:20260301T175939Z
URL:https://labo-emc.org/reservation/events/elfakir_michael-4/
SUMMARY:ELFAKIR_MICHAEL
DESCRIPTION:
CATEGORIES:Salle C17L
END:VEVENT
END:VCALENDAR