



BEGIN:VCALENDAR
VERSION:2.0
PRODID:-//wp-events-plugin.com//7.2.3.1//EN
BEGIN:VEVENT
UID:7419@labo-emc.org
DTSTART:20260129T140000Z
DTEND:20260129T151500Z
DTSTAMP:20260128T233613Z
URL:https://labo-emc.org/reservation/events/el-hassi-pedraza/
SUMMARY:EL HASSI - PEDRAZA
DESCRIPTION:
CATEGORIES:Salle C17D
END:VEVENT
END:VCALENDAR