



BEGIN:VCALENDAR
VERSION:2.0
PRODID:-//wp-events-plugin.com//7.2.3.1//EN
BEGIN:VEVENT
UID:7599@labo-emc.org
DTSTART;TZID=Europe/Paris:20260212T120000
DTEND;TZID=Europe/Paris:20260212T153000
DTSTAMP:20260211T112125Z
URL:https://labo-emc.org/reservation/events/el-hassi-pedraza-6/
SUMMARY:El Hassi - Pedraza
DESCRIPTION:
CATEGORIES:Salle C17J
END:VEVENT
BEGIN:VTIMEZONE
TZID:Europe/Paris
X-LIC-LOCATION:Europe/Paris
BEGIN:STANDARD
DTSTART:20251026T020000
TZOFFSETFROM:+0200
TZOFFSETTO:+0100
TZNAME:CET
END:STANDARD
END:VTIMEZONE
END:VCALENDAR