



BEGIN:VCALENDAR
VERSION:2.0
PRODID:-//wp-events-plugin.com//7.2.3.1//EN
BEGIN:VEVENT
UID:7598@labo-emc.org
DTSTART:20260211T130000Z
DTEND:20260211T141500Z
DTSTAMP:20260211T085317Z
URL:https://labo-emc.org/reservation/events/el-hassi-pedraza-5/
SUMMARY:EL HASSI - PEDRAZA
DESCRIPTION:
CATEGORIES:Salle C17M
END:VEVENT
END:VCALENDAR