



BEGIN:VCALENDAR
VERSION:2.0
PRODID:-//wp-events-plugin.com//7.2.3.1//EN
BEGIN:VEVENT
UID:7604@labo-emc.org
DTSTART:20260211T160000Z
DTEND:20260211T171500Z
DTSTAMP:20260211T111853Z
URL:https://labo-emc.org/reservation/events/el-hassi-pedraza-3/
SUMMARY:EL HASSI - PEDRAZA
DESCRIPTION:
CATEGORIES:Salle C17M
END:VEVENT
END:VCALENDAR