



BEGIN:VCALENDAR
VERSION:2.0
PRODID:-//wp-events-plugin.com//7.2.3.1//EN
BEGIN:VEVENT
UID:8127@labo-emc.org
DTSTART:20260326T110000Z
DTEND:20260326T160000Z
DTSTAMP:20260325T161252Z
URL:https://labo-emc.org/reservation/events/el-hassi-pedraza-13/
SUMMARY:EL HASSI - PEDRAZA
DESCRIPTION:
CATEGORIES:Salle C17L
END:VEVENT
END:VCALENDAR