



BEGIN:VCALENDAR
VERSION:2.0
PRODID:-//wp-events-plugin.com//7.2.3.1//EN
BEGIN:VEVENT
UID:7385@labo-emc.org
DTSTART:20260202T093000Z
DTEND:20260202T123000Z
DTSTAMP:20260127T160034Z
URL:https://labo-emc.org/reservation/events/eeg-massol-kerzazi-7/
SUMMARY:EEG - Massol Kerzazi
DESCRIPTION:
CATEGORIES:Salle C17A/B - EEG/Physio
END:VEVENT
END:VCALENDAR