



BEGIN:VCALENDAR
VERSION:2.0
PRODID:-//wp-events-plugin.com//7.2.3.1//EN
BEGIN:VEVENT
UID:7702@labo-emc.org
DTSTART:20260223T143000Z
DTEND:20260223T173000Z
DTSTAMP:20260223T080117Z
URL:https://labo-emc.org/reservation/events/eeg-massol-kerzazi-21/
SUMMARY:EEG - Massol Kerzazi
DESCRIPTION:
CATEGORIES:Salle C17A/B - EEG/Physio
END:VEVENT
END:VCALENDAR