



BEGIN:VCALENDAR
VERSION:2.0
PRODID:-//wp-events-plugin.com//7.2.3.1//EN
BEGIN:VEVENT
UID:7473@labo-emc.org
DTSTART:20260213T143000Z
DTEND:20260213T173000Z
DTSTAMP:20260202T100450Z
URL:https://labo-emc.org/reservation/events/eeg-massol-kerzazi-17/
SUMMARY:EEG - Massol Kerzazi
DESCRIPTION:
CATEGORIES:Salle C17A/B - EEG/Physio
END:VEVENT
END:VCALENDAR