



BEGIN:VCALENDAR
VERSION:2.0
PRODID:-//wp-events-plugin.com//7.2.3.1//EN
BEGIN:VEVENT
UID:7708@labo-emc.org
DTSTART:20260306T143000Z
DTEND:20260306T180000Z
DTSTAMP:20260223T151251Z
URL:https://labo-emc.org/reservation/events/eeg-delem_plancher-4/
SUMMARY:EEG Delem_Plancher
DESCRIPTION:
CATEGORIES:Salle C17A/B - EEG/Physio
END:VEVENT
END:VCALENDAR